Package: TOP Version: 1.9.0 Command: /Library/Frameworks/R.framework/Resources/bin/R CMD build --keep-empty-dirs --no-resave-data TOP StartedAt: 2025-10-15 19:48:16 -0400 (Wed, 15 Oct 2025) EndedAt: 2025-10-15 19:50:05 -0400 (Wed, 15 Oct 2025) EllapsedTime: 108.9 seconds RetCode: 0 Status: OK PackageFile: TOP_1.9.0.tar.gz PackageFileSize: 485.6 KiB