Package: TOP Version: 1.10.0 Maintainer: Harry Robertson MaintainerEmail: harry.robertson at sydney.edu.au git_url: https://git.bioconductor.org/packages/TOP git_branch: RELEASE_3_22 git_last_commit: 37ed69c git_last_commit_date: 2025-10-29 11:23:14 -0400 (Wed, 29 Oct 2025)