Package: TOAST Version: 1.23.0 Command: /Library/Frameworks/R.framework/Resources/bin/R CMD INSTALL TOAST StartedAt: 2025-10-14 15:19:44 -0400 (Tue, 14 Oct 2025) EndedAt: 2025-10-14 15:20:21 -0400 (Tue, 14 Oct 2025) EllapsedTime: 36.7 seconds RetCode: 0 Status: OK