Package: TOAST Version: 1.23.0 Command: rm -rf TOAST.buildbin-libdir && mkdir TOAST.buildbin-libdir && /Users/biocbuild/BBS/utils/build-universal.sh TOAST_1.23.0.tar.gz /Library/Frameworks/R.framework/Resources/bin/R TOAST.buildbin-libdir StartedAt: 2025-10-15 03:13:34 -0400 (Wed, 15 Oct 2025) EndedAt: 2025-10-15 03:14:16 -0400 (Wed, 15 Oct 2025) EllapsedTime: 41.8 seconds RetCode: 0 Status: OK PackageFile: TOAST_1.23.0.tgz PackageFileSize: 3.763 MiB