Package: TOAST Version: 1.23.0 Command: /Library/Frameworks/R.framework/Resources/bin/R CMD INSTALL TOAST StartedAt: 2025-09-29 15:11:23 -0400 (Mon, 29 Sep 2025) EndedAt: 2025-09-29 15:11:33 -0400 (Mon, 29 Sep 2025) EllapsedTime: 10.5 seconds RetCode: 0 Status: OK