Package: TOAST Version: 1.23.0 Command: /Library/Frameworks/R.framework/Resources/bin/R CMD build --keep-empty-dirs --no-resave-data TOAST StartedAt: 2025-09-29 17:55:31 -0400 (Mon, 29 Sep 2025) EndedAt: 2025-09-29 17:56:42 -0400 (Mon, 29 Sep 2025) EllapsedTime: 70.8 seconds RetCode: 0 Status: OK PackageFile: TOAST_1.23.0.tar.gz PackageFileSize: 3.625 MiB