Package: TOAST Version: 1.25.0 Maintainer: Ziyi Li MaintainerEmail: zli16 at mdanderson.org git_url: https://git.bioconductor.org/packages/TOAST git_branch: devel git_last_commit: dab62cf git_last_commit_date: 2025-10-29 10:52:46 -0400 (Wed, 29 Oct 2025)