Package: TMixClust Version: 1.33.0 Command: /home/biocbuild/bbs-3.23-bioc/R/bin/R CMD build --keep-empty-dirs --no-resave-data TMixClust StartedAt: 2025-11-20 20:33:00 -0500 (Thu, 20 Nov 2025) EndedAt: 2025-11-20 20:33:21 -0500 (Thu, 20 Nov 2025) EllapsedTime: 21.0 seconds RetCode: 0 Status: OK PackageFile: TMixClust_1.33.0.tar.gz PackageFileSize: 508.9 KiB