Package: TMixClust Version: 1.31.0 Command: /Library/Frameworks/R.framework/Resources/bin/R CMD INSTALL TMixClust StartedAt: 2025-10-24 15:10:21 -0400 (Fri, 24 Oct 2025) EndedAt: 2025-10-24 15:10:24 -0400 (Fri, 24 Oct 2025) EllapsedTime: 2.9 seconds RetCode: 0 Status: OK