Package: TMixClust Version: 1.31.0 Command: /Library/Frameworks/R.framework/Resources/bin/R CMD build --keep-empty-dirs --no-resave-data TMixClust StartedAt: 2025-10-24 17:59:59 -0400 (Fri, 24 Oct 2025) EndedAt: 2025-10-24 18:00:11 -0400 (Fri, 24 Oct 2025) EllapsedTime: 12.1 seconds RetCode: 0 Status: OK PackageFile: TMixClust_1.31.0.tar.gz PackageFileSize: 508.8 KiB