Package: TMSig Version: 1.5.0 Command: /home/biocbuild/bbs-3.23-bioc/R/bin/R CMD build --keep-empty-dirs --no-resave-data TMSig StartedAt: 2025-11-20 20:33:02 -0500 (Thu, 20 Nov 2025) EndedAt: 2025-11-20 20:33:52 -0500 (Thu, 20 Nov 2025) EllapsedTime: 50.1 seconds RetCode: 0 Status: OK PackageFile: TMSig_1.5.0.tar.gz PackageFileSize: 3.863 MiB