Package: TMSig Version: 1.3.0 Command: /Library/Frameworks/R.framework/Resources/bin/R CMD INSTALL TMSig StartedAt: 2025-10-10 15:31:07 -0400 (Fri, 10 Oct 2025) EndedAt: 2025-10-10 15:31:36 -0400 (Fri, 10 Oct 2025) EllapsedTime: 28.5 seconds RetCode: 0 Status: OK