Package: TMSig Version: 1.3.0 Command: rm -rf TMSig.buildbin-libdir && mkdir TMSig.buildbin-libdir && /Users/biocbuild/BBS/utils/build-universal.sh TMSig_1.3.0.tar.gz /Library/Frameworks/R.framework/Resources/bin/R TMSig.buildbin-libdir StartedAt: 2025-10-13 03:01:57 -0400 (Mon, 13 Oct 2025) EndedAt: 2025-10-13 03:02:28 -0400 (Mon, 13 Oct 2025) EllapsedTime: 31.5 seconds RetCode: 0 Status: OK PackageFile: TMSig_1.3.0.tgz PackageFileSize: 3.47 MiB