Package: TIN Version: 1.41.0 Command: /home/biocbuild/bbs-3.22-bioc/R/bin/R CMD INSTALL TIN StartedAt: 2025-10-14 15:47:51 -0400 (Tue, 14 Oct 2025) EndedAt: 2025-10-14 15:48:12 -0400 (Tue, 14 Oct 2025) EllapsedTime: 21.4 seconds RetCode: 0 Status: OK