Package: TIN Version: 1.43.0 Command: /home/biocbuild/bbs-3.23-bioc/R/bin/R CMD INSTALL TIN StartedAt: 2025-11-23 15:45:20 -0500 (Sun, 23 Nov 2025) EndedAt: 2025-11-23 15:45:43 -0500 (Sun, 23 Nov 2025) EllapsedTime: 23.0 seconds RetCode: 0 Status: OK