Package: TIN Version: 1.43.0 Command: /home/biocbuild/bbs-3.23-bioc/R/bin/R CMD build --keep-empty-dirs --no-resave-data TIN StartedAt: 2025-11-23 20:31:03 -0500 (Sun, 23 Nov 2025) EndedAt: 2025-11-23 20:31:58 -0500 (Sun, 23 Nov 2025) EllapsedTime: 55.1 seconds RetCode: 0 Status: OK PackageFile: TIN_1.43.0.tar.gz PackageFileSize: 4.593 MiB