Package: TFutils Version: 1.29.1 Command: /home/biocbuild/bbs-3.22-bioc/R/bin/R CMD check --install=check:TFutils.install-out.txt --library=/home/biocbuild/bbs-3.22-bioc/R/site-library --timings TFutils_1.29.1.tar.gz StartedAt: 2025-10-25 04:55:25 -0400 (Sat, 25 Oct 2025) EndedAt: 2025-10-25 05:03:46 -0400 (Sat, 25 Oct 2025) EllapsedTime: 500.5 seconds RetCode: 0 Status: OK CheckDir: TFutils.Rcheck Warnings: 0