Package: TFutils Version: 1.31.0 Command: /home/biocbuild/bbs-3.23-bioc/R/bin/R CMD INSTALL TFutils StartedAt: 2025-11-05 16:04:15 -0500 (Wed, 05 Nov 2025) EndedAt: 2025-11-05 16:05:10 -0500 (Wed, 05 Nov 2025) EllapsedTime: 54.7 seconds RetCode: 0 Status: OK