Package: TFutils Version: 1.31.0 Command: /home/biocbuild/bbs-3.23-bioc/R/bin/R CMD build --keep-empty-dirs --no-resave-data TFutils StartedAt: 2025-11-04 20:23:22 -0500 (Tue, 04 Nov 2025) EndedAt: 2025-11-04 20:25:24 -0500 (Tue, 04 Nov 2025) EllapsedTime: 122.1 seconds RetCode: 0 Status: OK PackageFile: TFutils_1.31.0.tar.gz PackageFileSize: 5.966 MiB