Package: TFutils Version: 1.29.1 Command: /Library/Frameworks/R.framework/Resources/bin/R CMD INSTALL TFutils StartedAt: 2025-09-30 15:47:06 -0400 (Tue, 30 Sep 2025) EndedAt: 2025-09-30 15:48:22 -0400 (Tue, 30 Sep 2025) EllapsedTime: 76.0 seconds RetCode: 0 Status: OK