Package: TFutils Version: 1.29.1 Command: /Library/Frameworks/R.framework/Resources/bin/R CMD build --keep-empty-dirs --no-resave-data TFutils StartedAt: 2025-09-30 19:06:36 -0400 (Tue, 30 Sep 2025) EndedAt: 2025-09-30 19:09:07 -0400 (Tue, 30 Sep 2025) EllapsedTime: 151.6 seconds RetCode: 0 Status: OK PackageFile: TFutils_1.29.1.tar.gz PackageFileSize: 6.014 MiB