Package: TFutils Version: 1.29.1 Command: rm -rf TFutils.buildbin-libdir && mkdir TFutils.buildbin-libdir && /Users/biocbuild/BBS/utils/build-universal.sh TFutils_1.29.1.tar.gz /Library/Frameworks/R.framework/Resources/bin/R TFutils.buildbin-libdir StartedAt: 2025-10-02 02:19:16 -0400 (Thu, 02 Oct 2025) EndedAt: 2025-10-02 02:20:36 -0400 (Thu, 02 Oct 2025) EllapsedTime: 79.9 seconds RetCode: 0 Status: OK PackageFile: TFutils_1.29.1.tgz PackageFileSize: 6.33 MiB