Package: TFutils Version: 1.29.1 Maintainer: Vincent Carey MaintainerEmail: stvjc at channing.harvard.edu git_url: https://git.bioconductor.org/packages/TFutils git_branch: devel git_last_commit: 7793272 git_last_commit_date: 2025-07-31 16:38:36 -0400 (Thu, 31 Jul 2025)