Package: TFEA.ChIP Version: 1.31.0 Command: /home/biocbuild/bbs-3.23-bioc/R/bin/R CMD INSTALL TFEA.ChIP StartedAt: 2025-11-04 15:38:38 -0500 (Tue, 04 Nov 2025) EndedAt: 2025-11-04 15:39:44 -0500 (Tue, 04 Nov 2025) EllapsedTime: 65.7 seconds RetCode: 0 Status: OK