Package: TFEA.ChIP Version: 1.31.0 Command: /home/biocbuild/bbs-3.23-bioc/R/bin/R CMD build --keep-empty-dirs --no-resave-data TFEA.ChIP StartedAt: 2025-11-05 20:29:54 -0500 (Wed, 05 Nov 2025) EndedAt: 2025-11-05 20:31:33 -0500 (Wed, 05 Nov 2025) EllapsedTime: 98.1 seconds RetCode: 0 Status: OK PackageFile: TFEA.ChIP_1.31.0.tar.gz PackageFileSize: 6.772 MiB