Package: TFEA.ChIP Version: 1.29.3 Command: /Library/Frameworks/R.framework/Resources/bin/R CMD INSTALL TFEA.ChIP StartedAt: 2025-10-13 15:37:36 -0400 (Mon, 13 Oct 2025) EndedAt: 2025-10-13 15:39:00 -0400 (Mon, 13 Oct 2025) EllapsedTime: 84.5 seconds RetCode: 0 Status: OK