Package: TFEA.ChIP Version: 1.29.3 Command: /Library/Frameworks/R.framework/Resources/bin/R CMD build --keep-empty-dirs --no-resave-data TFEA.ChIP StartedAt: 2025-10-13 19:41:05 -0400 (Mon, 13 Oct 2025) EndedAt: 2025-10-13 19:43:09 -0400 (Mon, 13 Oct 2025) EllapsedTime: 124.1 seconds RetCode: 0 Status: OK PackageFile: TFEA.ChIP_1.29.3.tar.gz PackageFileSize: 6.772 MiB