Package: TFEA.ChIP Version: 1.29.3 Command: /Library/Frameworks/R.framework/Resources/bin/R CMD INSTALL TFEA.ChIP StartedAt: 2025-10-01 15:22:11 -0400 (Wed, 01 Oct 2025) EndedAt: 2025-10-01 15:22:39 -0400 (Wed, 01 Oct 2025) EllapsedTime: 28.0 seconds RetCode: 0 Status: OK