Package: TFEA.ChIP Version: 1.29.3 Command: /Library/Frameworks/R.framework/Resources/bin/R CMD build --keep-empty-dirs --no-resave-data TFEA.ChIP StartedAt: 2025-10-01 18:03:43 -0400 (Wed, 01 Oct 2025) EndedAt: 2025-10-01 18:04:29 -0400 (Wed, 01 Oct 2025) EllapsedTime: 45.5 seconds RetCode: 0 Status: OK PackageFile: TFEA.ChIP_1.29.3.tar.gz PackageFileSize: 6.772 MiB