Package: TFEA.ChIP Version: 1.29.3 Command: rm -rf TFEA.ChIP.buildbin-libdir && mkdir TFEA.ChIP.buildbin-libdir && /Users/biocbuild/BBS/utils/build-universal.sh TFEA.ChIP_1.29.3.tar.gz /Library/Frameworks/R.framework/Resources/bin/R TFEA.ChIP.buildbin-libdir StartedAt: 2025-10-01 23:06:07 -0400 (Wed, 01 Oct 2025) EndedAt: 2025-10-01 23:06:37 -0400 (Wed, 01 Oct 2025) EllapsedTime: 29.7 seconds RetCode: 0 Status: OK PackageFile: TFEA.ChIP_1.29.3.tgz PackageFileSize: 6.261 MiB