Package: TFBSTools Version: 1.47.1 Command: /home/biocbuild/R/R/bin/R CMD INSTALL TFBSTools StartedAt: 2025-10-09 21:59:06 -0000 (Thu, 09 Oct 2025) EndedAt: 2025-10-09 22:00:02 -0000 (Thu, 09 Oct 2025) EllapsedTime: 56.0 seconds RetCode: 0 Status: OK