Package: TFBSTools Version: 1.47.1 Command: chmod a+r TFBSTools -R && F:\biocbuild\bbs-3.22-bioc\R\bin\R.exe CMD build --keep-empty-dirs --no-resave-data TFBSTools StartedAt: 2025-08-14 23:44:34 -0400 (Thu, 14 Aug 2025) EndedAt: 2025-08-14 23:46:30 -0400 (Thu, 14 Aug 2025) EllapsedTime: 115.8 seconds RetCode: 0 Status: OK PackageFile: TFBSTools_1.47.1.tar.gz PackageFileSize: 547.1 KiB