Package: TFBSTools Version: 1.47.1 Command: rm -rf TFBSTools.buildbin-libdir && mkdir TFBSTools.buildbin-libdir && F:\biocbuild\bbs-3.22-bioc\R\bin\R.exe CMD INSTALL --build --library=TFBSTools.buildbin-libdir TFBSTools_1.47.1.tar.gz StartedAt: 2025-08-15 11:29:26 -0400 (Fri, 15 Aug 2025) EndedAt: 2025-08-15 11:31:27 -0400 (Fri, 15 Aug 2025) EllapsedTime: 121.3 seconds RetCode: 0 Status: OK PackageFile: TFBSTools_1.47.1.zip PackageFileSize: 1.55 MiB