Package: TFBSTools Version: 1.49.0 Command: /home/biocbuild/bbs-3.23-bioc/R/bin/R CMD build --keep-empty-dirs --no-resave-data TFBSTools StartedAt: 2025-11-04 20:22:59 -0500 (Tue, 04 Nov 2025) EndedAt: 2025-11-04 20:24:05 -0500 (Tue, 04 Nov 2025) EllapsedTime: 66.0 seconds RetCode: 0 Status: OK PackageFile: TFBSTools_1.49.0.tar.gz PackageFileSize: 582.7 KiB