Package: TFARM Version: 1.33.0 Command: /home/biocbuild/bbs-3.23-bioc/R/bin/R CMD INSTALL TFARM StartedAt: 2025-11-06 15:23:24 -0500 (Thu, 06 Nov 2025) EndedAt: 2025-11-06 15:23:38 -0500 (Thu, 06 Nov 2025) EllapsedTime: 13.5 seconds RetCode: 0 Status: OK