Package: TFARM Version: 1.33.0 Command: /home/biocbuild/bbs-3.23-bioc/R/bin/R CMD build --keep-empty-dirs --no-resave-data TFARM StartedAt: 2025-11-06 20:22:25 -0500 (Thu, 06 Nov 2025) EndedAt: 2025-11-06 20:24:06 -0500 (Thu, 06 Nov 2025) EllapsedTime: 101.1 seconds RetCode: 0 Status: OK PackageFile: TFARM_1.33.0.tar.gz PackageFileSize: 470.9 KiB