Package: TFARM Version: 1.31.0 Command: /Library/Frameworks/R.framework/Resources/bin/R CMD build --keep-empty-dirs --no-resave-data TFARM StartedAt: 2025-10-14 19:38:17 -0400 (Tue, 14 Oct 2025) EndedAt: 2025-10-14 19:40:29 -0400 (Tue, 14 Oct 2025) EllapsedTime: 132.1 seconds RetCode: 0 Status: OK PackageFile: TFARM_1.31.0.tar.gz PackageFileSize: 469.9 KiB