Package: TFARM Version: 1.31.0 Command: /Library/Frameworks/R.framework/Resources/bin/R CMD INSTALL TFARM StartedAt: 2025-09-28 15:16:49 -0400 (Sun, 28 Sep 2025) EndedAt: 2025-09-28 15:16:55 -0400 (Sun, 28 Sep 2025) EllapsedTime: 5.8 seconds RetCode: 0 Status: OK