Package: TEQC Version: 4.33.0 Command: /home/biocbuild/bbs-3.23-bioc/R/bin/R CMD INSTALL TEQC StartedAt: 2025-11-20 15:15:26 -0500 (Thu, 20 Nov 2025) EndedAt: 2025-11-20 15:15:39 -0500 (Thu, 20 Nov 2025) EllapsedTime: 13.1 seconds RetCode: 0 Status: OK