Package: TEQC Version: 4.33.0 Command: /home/biocbuild/bbs-3.23-bioc/R/bin/R CMD build --keep-empty-dirs --no-resave-data TEQC StartedAt: 2025-11-20 20:29:36 -0500 (Thu, 20 Nov 2025) EndedAt: 2025-11-20 20:30:00 -0500 (Thu, 20 Nov 2025) EllapsedTime: 24.0 seconds RetCode: 0 Status: OK PackageFile: TEQC_4.33.0.tar.gz PackageFileSize: 643.6 KiB