Package: TEQC Version: 4.31.1 Command: /Library/Frameworks/R.framework/Resources/bin/R CMD INSTALL TEQC StartedAt: 2025-10-24 15:26:37 -0400 (Fri, 24 Oct 2025) EndedAt: 2025-10-24 15:26:56 -0400 (Fri, 24 Oct 2025) EllapsedTime: 18.9 seconds RetCode: 0 Status: OK