Package: TEQC Version: 4.31.1 Command: /Library/Frameworks/R.framework/Resources/bin/R CMD build --keep-empty-dirs --no-resave-data TEQC StartedAt: 2025-10-27 18:56:54 -0400 (Mon, 27 Oct 2025) EndedAt: 2025-10-27 18:57:26 -0400 (Mon, 27 Oct 2025) EllapsedTime: 32.1 seconds RetCode: 0 Status: OK PackageFile: TEQC_4.31.1.tar.gz PackageFileSize: 641.8 KiB