Package: TEQC Version: 4.31.1 Command: rm -rf TEQC.buildbin-libdir && mkdir TEQC.buildbin-libdir && /Users/biocbuild/BBS/utils/build-universal.sh TEQC_4.31.1.tar.gz /Library/Frameworks/R.framework/Resources/bin/R TEQC.buildbin-libdir StartedAt: 2025-10-28 02:40:09 -0400 (Tue, 28 Oct 2025) EndedAt: 2025-10-28 02:40:29 -0400 (Tue, 28 Oct 2025) EllapsedTime: 20.0 seconds RetCode: 0 Status: OK PackageFile: TEQC_4.31.1.tgz PackageFileSize: 792.9 KiB