Package: TEQC Version: 4.31.1 Command: /Library/Frameworks/R.framework/Resources/bin/R CMD INSTALL TEQC StartedAt: 2025-10-10 15:13:01 -0400 (Fri, 10 Oct 2025) EndedAt: 2025-10-10 15:13:07 -0400 (Fri, 10 Oct 2025) EllapsedTime: 6.0 seconds RetCode: 0 Status: OK