Package: TEQC Version: 4.31.1 Command: /Library/Frameworks/R.framework/Resources/bin/R CMD build --keep-empty-dirs --no-resave-data TEQC StartedAt: 2025-10-10 17:54:55 -0400 (Fri, 10 Oct 2025) EndedAt: 2025-10-10 17:55:06 -0400 (Fri, 10 Oct 2025) EllapsedTime: 11.1 seconds RetCode: 0 Status: OK PackageFile: TEQC_4.31.1.tar.gz PackageFileSize: 643.5 KiB