Package: TENxIO Version: 1.11.5 Command: /Library/Frameworks/R.framework/Resources/bin/R CMD INSTALL TENxIO StartedAt: 2025-10-14 15:21:51 -0400 (Tue, 14 Oct 2025) EndedAt: 2025-10-14 15:22:27 -0400 (Tue, 14 Oct 2025) EllapsedTime: 35.7 seconds RetCode: 0 Status: OK