Package: TENxIO Version: 1.11.5 Command: /Library/Frameworks/R.framework/Resources/bin/R CMD build --keep-empty-dirs --no-resave-data TENxIO StartedAt: 2025-10-14 19:37:46 -0400 (Tue, 14 Oct 2025) EndedAt: 2025-10-14 19:38:35 -0400 (Tue, 14 Oct 2025) EllapsedTime: 49.2 seconds RetCode: 1 Status: ERROR PackageFile: None PackageFileSize: NA