Package: TENxIO Version: 1.11.5 Command: /Library/Frameworks/R.framework/Resources/bin/R CMD INSTALL TENxIO StartedAt: 2025-09-29 15:12:45 -0400 (Mon, 29 Sep 2025) EndedAt: 2025-09-29 15:12:57 -0400 (Mon, 29 Sep 2025) EllapsedTime: 11.2 seconds RetCode: 0 Status: OK