Package: TENxIO Version: 1.11.5 Command: /Library/Frameworks/R.framework/Resources/bin/R CMD build --keep-empty-dirs --no-resave-data TENxIO StartedAt: 2025-09-29 17:53:34 -0400 (Mon, 29 Sep 2025) EndedAt: 2025-09-29 17:53:52 -0400 (Mon, 29 Sep 2025) EllapsedTime: 17.2 seconds RetCode: 1 Status: ERROR PackageFile: None PackageFileSize: NA