Package: TENET Version: 1.3.0 Command: /home/biocbuild/bbs-3.23-bioc/R/bin/R CMD build --keep-empty-dirs --no-resave-data TENET StartedAt: 2025-11-21 20:28:22 -0500 (Fri, 21 Nov 2025) EndedAt: 2025-11-21 20:47:28 -0500 (Fri, 21 Nov 2025) EllapsedTime: 1146.4 seconds RetCode: 0 Status: OK PackageFile: TENET_1.3.0.tar.gz PackageFileSize: 1.79 MiB